BEGIN:VCALENDAR
VERSION:2.0
PRODID:-//eventon.com NONSGML v1.0//EN
CALSCALE:GREGORIAN
METHOD:PUBLISH
BEGIN:VEVENT
UID:69e733419e1c0
DTSTAMP:20260421T082017Z
DTSTART:20250821T180000Z
DTEND:20250821T180000Z
LOCATION:
SUMMARY:Tie Dye
DESCRIPTION:Join us at the beachside Snack Shack for tie dyed t-shirts! &nb
 sp;\nhttps://lakesiskiyouresort.com/events/tie-dye/
URL:https://lakesiskiyouresort.com/events/tie-dye/
END:VEVENT
END:VCALENDAR